BEGIN:VCALENDAR
VERSION:2.0
PRODID:GlueUp
CALSCALE:GREGORIAN
BEGIN:VTIMEZONE
TZID:UTC
BEGIN:STANDARD
DTSTART:19700101T000000
TZOFFSETFROM:+0000
TZOFFSETTO:+0000
TZNAME:UTC
END:STANDARD
END:VTIMEZONE
BEGIN:VEVENT
TZ:+00
ORGANIZER;CN=Chenye Liu:MAILTO:chenye@norbachina.com
UID:33641-1776613420@https://norbachina.glueup.cn
DTSTAMP:20260419T154340Z
DTSTART:20210925T060000Z
DTEND:20210925T100000Z
SUMMARY:WELCOME BACK PARTY
DESCRIPTION:WELCOME BACK PARTY by Norwegian Business Association China\n\nSep 25, 2021 (2:00 PM - 6:00 PM)(GMT+8)\n\nFor more information, click here: https://norbachina.glueup.cn/my/events/33641
LOCATION:DNV‘s office - Hongqiao Lu 1591 House No 8,9 Shanghai - China
BEGIN:VALARM
TRIGGER:-PT48H
REPEAT:4
DURATION:PT30M
ACTION:DISPLAY
END:VALARM
END:VEVENT
END:VCALENDAR