BEGIN:VCALENDAR
VERSION:2.0
PRODID:GlueUp
CALSCALE:GREGORIAN
BEGIN:VTIMEZONE
TZID:UTC
BEGIN:STANDARD
DTSTART:19700101T000000
TZOFFSETFROM:+0000
TZOFFSETTO:+0000
TZNAME:UTC
END:STANDARD
END:VTIMEZONE
BEGIN:VEVENT
TZ:+00
ORGANIZER;CN=Chenye Liu:MAILTO:chenye@norbachina.com
UID:28441-1776612887@https://norbachina.glueup.cn
DTSTAMP:20260419T153447Z
DTSTART:20210309T100000Z
DTEND:20210309T130000Z
SUMMARY:Scaling Leadership Event Follow-up: LCP self-assessment
DESCRIPTION:Scaling Leadership Event Follow-up: LCP self-assessment by Norwegian Business Association China\n\nMar 9, 2021 (6:00 PM - 9:00 PM)(GMT+8)\n\nFor more information, click here: https://norbachina.glueup.cn/my/events/28441
LOCATION:Westin Hotel Bund Center Shanghai - Henan Road 88 Shanghai Shi - China
BEGIN:VALARM
TRIGGER:-PT48H
REPEAT:4
DURATION:PT30M
ACTION:DISPLAY
END:VALARM
END:VEVENT
END:VCALENDAR