BEGIN:VCALENDAR
VERSION:2.0
PRODID:GlueUp
CALSCALE:GREGORIAN
BEGIN:VTIMEZONE
TZID:UTC
BEGIN:STANDARD
DTSTART:19700101T000000
TZOFFSETFROM:+0000
TZOFFSETTO:+0000
TZNAME:UTC
END:STANDARD
END:VTIMEZONE
BEGIN:VEVENT
TZ:+00
ORGANIZER;CN=Luyi Shui:MAILTO:luyishui@norbachina.com
UID:50264-1776986984@https://norbachina.glueup.cn
DTSTAMP:20260423T232944Z
DTSTART:20260512T100000Z
DTEND:20260512T130000Z
SUMMARY:Norwegian Constitution Day Reception
DESCRIPTION:Norwegian Constitution Day Reception by Norwegian Business Association China\n\nMay 12, 2026 (6:00 PM - 9:00 PM)(GMT+8)\n\nFor more information, click here: https://norbachina.glueup.cn/my/events/50264
LOCATION:The Grand Halls - Building 3 - The Grand Halls - No. 8 North Bund Road - Shanghai Shanghai - China
BEGIN:VALARM
TRIGGER:-PT48H
REPEAT:4
DURATION:PT30M
ACTION:DISPLAY
END:VALARM
END:VEVENT
END:VCALENDAR