BEGIN:VCALENDAR
VERSION:2.0
PRODID:GlueUp
CALSCALE:GREGORIAN
BEGIN:VTIMEZONE
TZID:UTC
BEGIN:STANDARD
DTSTART:19700101T000000
TZOFFSETFROM:+0000
TZOFFSETTO:+0000
TZNAME:UTC
END:STANDARD
END:VTIMEZONE
BEGIN:VEVENT
TZ:+00
ORGANIZER;CN=NBA China NBA China:MAILTO:administration@norbachina.com
UID:39842-1776779843@https://norbachina.glueup.cn
DTSTAMP:20260421T135723Z
DTSTART:20230425T010000Z
DTEND:20230425T052000Z
SUMMARY:Fueling the Future: Exploring Hydrogen Solutions and Collaboration
DESCRIPTION:Fueling the Future: Exploring Hydrogen Solutions and Collaboration by Norwegian Business Association China\n\nApr 25, 2023 (9:00 AM - 1:20 PM)(GMT+8)\n\nFor more information, click here: https://norbachina.glueup.cn/my/events/39842
LOCATION:Beijing Daxing International Hydrogen Energy Demonstration Zone 北京大兴国际氢能示范区 - Beijing Daxing International Hydrogen Energy Demonstration Zone - 北京大兴国际氢能示范区，Block 2 - No 9 Feng Yuan Street - Daxing District - Beijing 北京大兴区丰远街9号2号楼
BEGIN:VALARM
TRIGGER:-PT48H
REPEAT:4
DURATION:PT30M
ACTION:DISPLAY
END:VALARM
END:VEVENT
END:VCALENDAR